Workbook

Sheet Instructivo
A1: IV CONVOCATORIA INTERINSTITUCIONAL PARA FINANCIACIÓN DE PROYECTOS. RED DE UNIVERSIDADES CATÓLICAS (RUCC) 2026
A3: PRESUPUESTO
A4: INSTRUCTIVO. Por favor tenga en cuenta las siguientes instrucciones para el diligenciamiento del presupuesto. 1. Ingrese los nombres de la instituciones en esta hoja [Instructivo], de acuerdo con el rol a desempeñar, para que se despliegue la misma información en las demás hojas del presupuesto. 2. Favor no alimentar la hoja [Presuepuesto _General], se actualiza con el diligenciamiento de las hojas individuales por rubro. 2. Los rubros (color azúl) corresponde a los rubros financiados por la convocatoria: realice el presupuesto en las hojas individuales para cada rubro. 3. Los rubros (color verde) corresponde a los rubros cofinanciados por cada IES de la alianza: realice el presupuesto en las hojas individuales para cada rubro. 4. Los rubros (color gris) no se diligencian, no son financiables.
A7: Instituciones participantes | B7: Nombre
A8: Ejecutora principal:
A9: Coejecutora 1
A10: Coejecutora 2
A11: Coejecutora 3

Sheet Presupuesto_General
A1: IV CONVOCATORIA INTERINSTITUCIONAL PARA FINANCIACIÓN DE PROYECTOS. RED DE UNIVERSIDADES CATÓLICAS (RUCC) 2026
A3: PRESUPUESTO
A4: INSTRUCTIVO. Por favor tenga en cuenta las orientaciones de la hoja anterior [Instructivo] para el diligenciamiento del presupuesto. 1. Esta hoja [Presupuesto_General] se actualiza con la información que se diligencia en las demás hojas. 2. Los rubros (color azúl) corresponde a los rubros financiados por la convocatoria: Por favor no ingrese valores de forma manual en esta hoja [Prespuesto_General], realice el presupuesto en las hojas individuales para cada rubro. 3. Los rubros (color verde) corresponde a los rubros cofinanciados por cada IES de la alianza. Por favor no ingrese valores de forma manual en esta hoja [Prespuesto_General], realice el presupuesto en las hojas individuales para cada rubro. 4. Los rubros (color gris) no se diligencian, no son financiables y/o no se asumen como contrapartida
A6: Modalidad:
A8: RUBROS | B8: Recurso en efectivo financiado por cada IES | N8: Contrapartida en especie por cada IES | Z8: TOTAL
B9: =+Instructivo!B8 -> 0 | E9: =+Instructivo!B9 -> 0 | H9: =+Instructivo!B10 -> 0 | K9: =+Instructivo!B11 -> 0 | N9: =B9 -> 0 | Q9: =E9 -> 0 | T9: =H9 -> 0 | W9: =K9 -> 0
B10: 2026 | C10: 2027 | D10: 2028 | E10: 2026 | F10: 2027 | G10: 2028 | H10: 2026 | I10: 2027 | J10: 2028 | K10: 2026 | L10: 2027 | M10: 2028 | N10: 2026 | O10: 2027 | P10: 2028 | Q10: 2026 | R10: 2027 | S10: 2028 | T10: 2026 | U10: 2027 | V10: 2028 | W10: 2026 | X10: 2027 | Y10: 2028
A11: Salidas de campo | B11: =+Salidas_Campo!H12 -> 0 | C11: =+Salidas_Campo!I12 -> 0 | D11: =+Salidas_Campo!J12 -> 0 | E11: =+Salidas_Campo!H22 -> 0 | F11: =+Salidas_Campo!I22 -> 0 | G11: =+Salidas_Campo!J22 -> 0 | H11: =+Salidas_Campo!H32 -> 0 | I11: =+Salidas_Campo!I32 -> 0 | J11: =+Salidas_Campo!J32 -> 0 | K11: =+Salidas_Campo!H42 -> 0 | L11: =+Salidas_Campo!I42 -> 0 | M11: =+Salidas_Campo!J42 -> 0 | Z11: =SUM(B11:Y11) -> 0
A12: Materiales e insumos | B12: =+Materiales_e_Insumos!F12 -> 0 | C12: =+Materiales_e_Insumos!G12 -> 0 | D12: =+Materiales_e_Insumos!H12 -> 0 | E12: =+Materiales_e_Insumos!F22 -> 0 | F12: =+Materiales_e_Insumos!G22 -> 0 | G12: =+Materiales_e_Insumos!H22 -> 0 | H12: =+Materiales_e_Insumos!F32 -> 0 | I12: =+Materiales_e_Insumos!G32 -> 0 | J12: =+Materiales_e_Insumos!H32 -> 0 | K12: =+Materiales_e_Insumos!F41 -> 0 | L12: =+Materiales_e_Insumos!G41 -> 0 | M12: =+Materiales_e_Insumos!H41 -> 0 | Z12: =SUM(B12:Y12) -> 0
A13: Servicios editoriales | B13: =+Servicios_Editoriales!F12 -> 0 | C13: =+Servicios_Editoriales!G12 -> 0 | D13: =+Servicios_Editoriales!H12 -> 0 | E13: =+Servicios_Editoriales!F22 -> 0 | F13: =+Servicios_Editoriales!G22 -> 0 | G13: =+Servicios_Editoriales!H22 -> 0 | H13: =+Servicios_Editoriales!F32 -> 0 | I13: =+Servicios_Editoriales!G32 -> 0 | J13: =+Servicios_Editoriales!H32 -> 0 | K13: =+Servicios_Editoriales!F42 -> 0 | L13: =+Servicios_Editoriales!G42 -> 0 | M13: =+Servicios_Editoriales!H42 -> 0 | Z13: =SUM(B13:Y13) -> 0
A14: Servicios técnicos | B14: =+Servicios_Técnicos!F12 -> 0 | C14: =+Servicios_Técnicos!G12 -> 0 | D14: =+Servicios_Técnicos!H12 -> 0 | E14: =+Servicios_Técnicos!F22 -> 0 | F14: =+Servicios_Técnicos!G22 -> 0 | G14: =+Servicios_Técnicos!H22 -> 0 | H14: =+Servicios_Técnicos!F32 -> 0 | I14: =+Servicios_Técnicos!G32 -> 0 | J14: =+Servicios_Técnicos!H32 -> 0 | K14: =+Servicios_Técnicos!F42 -> 0 | L14: =+Servicios_Técnicos!G42 -> 0 | M14: =+Servicios_Técnicos!H42 -> 0 | Z14: =SUM(B14:Y14) -> 0
A15: Difusión o divulgación de resultados | B15: =+Difusión_o_Divulgación!F12 -> 0 | C15: =+Difusión_o_Divulgación!G12 -> 0 | D15: =+Difusión_o_Divulgación!H12 -> 0 | E15: =+Difusión_o_Divulgación!F22 -> 0 | F15: =+Difusión_o_Divulgación!G22 -> 0 | G15: =+Difusión_o_Divulgación!H22 -> 0 | H15: =+Difusión_o_Divulgación!F32 -> 0 | I15: =+Difusión_o_Divulgación!G32 -> 0 | J15: =+Difusión_o_Divulgación!H32 -> 0 | K15: =+Difusión_o_Divulgación!F41 -> 0 | L15: =+Difusión_o_Divulgación!G41 -> 0 | M15: =+Difusión_o_Divulgación!H41 -> 0 | Z15: =SUM(B15:Y15) -> 0
A16: Auxilio de sostenimiento1 (rubro opcional: solo se podrá vincular un estudiante para obtener el auxilio por IES). | B16: =+Auxilio_Sostenimiento!F12 -> 0 | C16: =+Auxilio_Sostenimiento!G12 -> 0 | D16: =+Auxilio_Sostenimiento!H12 -> 0 | E16: =+Auxilio_Sostenimiento!F22 -> 0 | F16: =+Auxilio_Sostenimiento!G22 -> 0 | G16: =+Auxilio_Sostenimiento!H22 -> 0 | H16: =+Auxilio_Sostenimiento!F32 -> 0 | I16: =+Auxilio_Sostenimiento!G32 -> 0 | J16: =+Auxilio_Sostenimiento!H32 -> 0 | K16: =+Auxilio_Sostenimiento!F41 -> 0 | L16: =+Auxilio_Sostenimiento!G41 -> 0 | M16: =+Auxilio_Sostenimiento!H41 -> 0 | Z16: =SUM(B16:Y16) -> 0
A17: Personal cientifico | N17: =+Personal_Cientifico!J12 -> 0 | O17: =+Personal_Cientifico!K12 -> 0 | P17: =+Personal_Cientifico!L12 -> 0 | Q17: =+Personal_Cientifico!J22 -> 0 | R17: =+Personal_Cientifico!K22 -> 0 | S17: =+Personal_Cientifico!L22 -> 0 | T17: =+Personal_Cientifico!J32 -> 0 | U17: =+Personal_Cientifico!K32 -> 0 | V17: =+Personal_Cientifico!L32 -> 0 | W17: =+Personal_Cientifico!J42 -> 0 | X17: =+Personal_Cientifico!K42 -> 0 | Y17: =+Personal_Cientifico!L42 -> 0 | Z17: =SUM(B17:Y17) -> 0
A18: Licencias de Software especializado. | N18: =+Contrapartidas!F7 -> 0 | O18: =+Contrapartidas!G7 -> 0 | P18: =+Contrapartidas!H7 -> 0 | Q18: =+Contrapartidas!F19 -> 0 | R18: =+Contrapartidas!G19 -> 0 | S18: =+Contrapartidas!H19 -> 0 | T18: =+Contrapartidas!F31 -> 0 | U18: =+Contrapartidas!G31 -> 0 | V18: =+Contrapartidas!H31 -> 0 | W18: =+Contrapartidas!F42 -> 0 | X18: =+Contrapartidas!G42 -> 0 | Y18: =+Contrapartidas!H42 -> 0 | Z18: =SUM(B18:Y18) -> 0
A19: Acceso a bibliografía especializada. | N19: =+Contrapartidas!F8 -> 0 | O19: =+Contrapartidas!G8 -> 0 | P19: =+Contrapartidas!H8 -> 0 | Q19: =+Contrapartidas!F20 -> 0 | R19: =+Contrapartidas!G20 -> 0 | S19: =+Contrapartidas!H20 -> 0 | T19: =+Contrapartidas!F32 -> 0 | U19: =+Contrapartidas!G32 -> 0 | V19: =+Contrapartidas!H32 -> 0 | W19: =+Contrapartidas!F43 -> 0 | X19: =+Contrapartidas!G43 -> 0 | Y19: =+Contrapartidas!H43 -> 0 | Z19: =SUM(B19:Y19) -> 0
A20: Capacitaciones para el funcionamiento de laboratorios o formación académica de los participantes del proyecto. | N20: =+Contrapartidas!F9 -> 0 | O20: =+Contrapartidas!G9 -> 0 | P20: =+Contrapartidas!H9 -> 0 | Q20: =+Contrapartidas!F21 -> 0 | R20: =+Contrapartidas!G21 -> 0 | S20: =+Contrapartidas!H21 -> 0 | T20: =+Contrapartidas!F33 -> 0 | U20: =+Contrapartidas!G33 -> 0 | V20: =+Contrapartidas!H33 -> 0 | W20: =+Contrapartidas!F44 -> 0 | X20: =+Contrapartidas!G44 -> 0 | Y20: =+Contrapartidas!H44 -> 0 | Z20: =SUM(B20:Y20) -> 0
A21: Equipos de cómputo o laboratorio (cantidad limitada). | N21: =+Contrapartidas!F10 -> 0 | O21: =+Contrapartidas!G10 -> 0 | P21: =+Contrapartidas!H10 -> 0 | Q21: =+Contrapartidas!F22 -> 0 | R21: =+Contrapartidas!G22 -> 0 | S21: =+Contrapartidas!H22 -> 0 | T21: =+Contrapartidas!F34 -> 0 | U21: =+Contrapartidas!G34 -> 0 | V21: =+Contrapartidas!H34 -> 0 | W21: =+Contrapartidas!F45 -> 0 | X21: =+Contrapartidas!G45 -> 0 | Y21: =+Contrapartidas!H45 -> 0 | Z21: =SUM(B21:Y21) -> 0
A22: Alquiler de equipos requeridos. | N22: =+Contrapartidas!F11 -> 0 | O22: =+Contrapartidas!G11 -> 0 | P22: =+Contrapartidas!H11 -> 0 | Q22: =+Contrapartidas!F23 -> 0 | R22: =+Contrapartidas!G23 -> 0 | S22: =+Contrapartidas!H23 -> 0 | T22: =+Contrapartidas!F35 -> 0 | U22: =+Contrapartidas!G35 -> 0 | V22: =+Contrapartidas!H35 -> 0 | W22: =+Contrapartidas!F46 -> 0 | X22: =+Contrapartidas!G46 -> 0 | Y22: =+Contrapartidas!H46 -> 0 | Z22: =SUM(B22:Y22) -> 0
A23: Participación en eventos. | N23: =+Contrapartidas!F12 -> 0 | O23: =+Contrapartidas!G12 -> 0 | P23: =+Contrapartidas!H12 -> 0 | Q23: =+Contrapartidas!F24 -> 0 | R23: =+Contrapartidas!G24 -> 0 | S23: =+Contrapartidas!H24 -> 0 | T23: =+Contrapartidas!F36 -> 0 | U23: =+Contrapartidas!G36 -> 0 | V23: =+Contrapartidas!H36 -> 0 | W23: =+Contrapartidas!F47 -> 0 | X23: =+Contrapartidas!G47 -> 0 | Y23: =+Contrapartidas!H47 -> 0 | Z23: =SUM(B23:Y23) -> 0
A24: Otros | N24: =+Contrapartidas!F13 -> 0 | O24: =+Contrapartidas!G13 -> 0 | P24: =+Contrapartidas!H13 -> 0 | Q24: =+Contrapartidas!F25 -> 0 | R24: =+Contrapartidas!G25 -> 0 | S24: =+Contrapartidas!H25 -> 0 | T24: =+Contrapartidas!F37 -> 0 | U24: =+Contrapartidas!G37 -> 0 | V24: =+Contrapartidas!H37 -> 0 | W24: =+Contrapartidas!F48 -> 0 | X24: =+Contrapartidas!G48 -> 0 | Y24: =+Contrapartidas!H48 -> 0 | Z24: =SUM(B24:Y24) -> 0
B25: =SUM(B11:M16) -> 0 | N25: =SUM(N17:Y24) -> 0 | Z25: =SUM(B25:Y25) -> 0
B26: =+B25+N25 -> 0 | Z26: =+Z25 -> 0

Sheet Salidas_Campo
A1: =+Presupuesto_General!A1 -> IV CONVOCATORIA INTERINSTITUCIONAL PARA FINANCIACIÓN DE PROYECTOS. RED DE UNIVERSIDADES CATÓLICAS (RUCC) 2026
A3: SALIDAS DE CAMPO
A5: INSTITUCIÓN | B5: =Presupuesto_General!N9 -> 0
A6: Ciudad | B6: Justificación | C6: N° personas | D6: N° días | E6: Valor pasaje por persona | F6: Estadía por día | G6: Valor | H6: 2026 | I6: 2027 | J6: 2028 | K6: TOTAL | L6: Observaciones
G7: =(C7*E7)+(C7*D7*F7) -> 0 | K7: =SUM(H7:J7) -> 0
G8: =(C8*E8)+(C8*D8*F8) -> 0 | K8: =SUM(H8:J8) -> 0
G9: =(C9*E9)+(C9*D9*F9) -> 0 | K9: =SUM(H9:J9) -> 0
G10: =(C10*E10)+(C10*D10*F10) -> 0 | K10: =SUM(H10:J10) -> 0
G11: =(C11*E11)+(C11*D11*F11) -> 0 | K11: =SUM(H11:J11) -> 0
A12: VALOR POR INSTITUCIÓN | G12: =SUM(G7:G11) -> 0 | H12: =SUM(H7:H11) -> 0 | I12: =SUM(I7:I11) -> 0 | J12: =SUM(J7:J11) -> 0 | K12: =SUM(K7:K11) -> 0
A15: INSTITUCIÓN | B15: =Presupuesto_General!Q9 -> 0
A16: Ciudad | B16: Justificación | C16: N° personas | D16: N° días | E16: Valor pasaje por persona | F16: Estadía por día | G16: Valor | H16: 2026 | I16: 2027 | J16: 2028 | K16: TOTAL | L16: Observaciones
G17: =(C17*E17)+(C17*D17*F17) -> 0 | K17: =SUM(H17:J17) -> 0
G18: =(C18*E18)+(C18*D18*F18) -> 0 | K18: =SUM(H18:J18) -> 0
G19: =(C19*E19)+(C19*D19*F19) -> 0 | K19: =SUM(H19:J19) -> 0
G20: =(C20*E20)+(C20*D20*F20) -> 0 | K20: =SUM(H20:J20) -> 0
G21: =(C21*E21)+(C21*D21*F21) -> 0 | K21: =SUM(H21:J21) -> 0
A22: VALOR POR INSTITUCIÓN | G22: =SUM(G17:G21) -> 0 | H22: =SUM(H17:H21) -> 0 | I22: =SUM(I17:I21) -> 0 | J22: =SUM(J17:J21) -> 0 | K22: =SUM(K17:K21) -> 0
A25: INSTITUCIÓN | B25: =Presupuesto_General!T9 -> 0
A26: Ciudad | B26: Justificación | C26: N° personas | D26: N° días | E26: Valor pasaje por persona | F26: Estadía por día | G26: Valor | H26: 2026 | I26: 2027 | J26: 2028 | K26: TOTAL | L26: Observaciones
G27: =(C27*E27)+(C27*D27*F27) -> 0 | K27: =SUM(H27:J27) -> 0
G28: =(C28*E28)+(C28*D28*F28) -> 0 | K28: =SUM(H28:J28) -> 0
G29: =(C29*E29)+(C29*D29*F29) -> 0 | K29: =SUM(H29:J29) -> 0
G30: =(C30*E30)+(C30*D30*F30) -> 0 | K30: =SUM(H30:J30) -> 0
G31: =(C31*E31)+(C31*D31*F31) -> 0 | K31: =SUM(H31:J31) -> 0
A32: VALOR POR INSTITUCIÓN | G32: =SUM(G27:G31) -> 0 | H32: =SUM(H27:H31) -> 0 | I32: =SUM(I27:I31) -> 0 | J32: =SUM(J27:J31) -> 0 | K32: =SUM(K27:K31) -> 0
A35: INSTITUCIÓN | B35: =Presupuesto_General!W9 -> 0
A36: Ciudad | B36: Justificación | C36: N° personas | D36: N° días | E36: Valor pasaje por persona | F36: Estadía por día | G36: Valor | H36: 2026 | I36: 2027 | J36: 2028 | K36: TOTAL | L36: Observaciones
G37: =(C37*E37)+(C37*D37*F37) -> 0 | K37: =SUM(H37:J37) -> 0
G38: =(C38*E38)+(C38*D38*F38) -> 0 | K38: =SUM(H38:J38) -> 0
G39: =(C39*E39)+(C39*D39*F39) -> 0 | K39: =SUM(H39:J39) -> 0
G40: =(C40*E40)+(C40*D40*F40) -> 0 | K40: =SUM(H40:J40) -> 0
G41: =(C41*E41)+(C41*D41*F41) -> 0 | K41: =SUM(H41:J41) -> 0
A42: VALOR POR INSTITUCIÓN | G42: =SUM(G37:G41) -> 0 | H42: =SUM(H37:H41) -> 0 | I42: =SUM(I37:I41) -> 0 | J42: =SUM(J37:J41) -> 0 | K42: =SUM(K37:K41) -> 0

Sheet Materiales_e_Insumos
A1: =+Presupuesto_General!A1 -> IV CONVOCATORIA INTERINSTITUCIONAL PARA FINANCIACIÓN DE PROYECTOS. RED DE UNIVERSIDADES CATÓLICAS (RUCC) 2026
A3: MATERIALES E INSUMOS
A5: INSTITUCIÓN | B5: =Presupuesto_General!N9 -> 0
A6: Descripción | B6: Justificación | C6: Cantidad | D6: Valor unitario | E6: Valor | F6: 2026 | G6: 2027 | H6: 2028 | I6: TOTAL | J6: Observaciones
E7: =(C7*D7) -> 0 | I7: =SUM(F7:H7) -> 0
E8: =(C8*D8) -> 0 | I8: =SUM(F8:H8) -> 0
E9: =(C9*D9) -> 0 | I9: =SUM(F9:H9) -> 0
E10: =(C10*D10) -> 0 | I10: =SUM(F10:H10) -> 0
E11: =(C11*D11) -> 0 | I11: =SUM(F11:H11) -> 0
A12: VALOR POR INSTITUCIÓN | E12: =SUM(E7:E11) -> 0 | F12: =SUM(F7:F11) -> 0 | G12: =SUM(G7:G11) -> 0 | H12: =SUM(H7:H11) -> 0 | I12: =SUM(I7:I11) -> 0
A15: INSTITUCIÓN | B15: =Presupuesto_General!Q9 -> 0
A16: Descripción | B16: Justificación | C16: Cantidad | D16: Valor unitario | E16: Valor | F16: 2026 | G16: 2027 | H16: 2028 | I16: TOTAL | J16: Observaciones
E17: =(C17*D17) -> 0 | I17: =SUM(F17:H17) -> 0
E18: =(C18*D18) -> 0 | I18: =SUM(F18:H18) -> 0
E19: =(C19*D19) -> 0 | I19: =SUM(F19:H19) -> 0
E20: =(C20*D20) -> 0 | I20: =SUM(F20:H20) -> 0
E21: =(C21*D21) -> 0 | I21: =SUM(F21:H21) -> 0
A22: VALOR POR INSTITUCIÓN | E22: =SUM(E17:E21) -> 0 | F22: =SUM(F17:F21) -> 0 | G22: =SUM(G17:G21) -> 0 | H22: =SUM(H17:H21) -> 0 | I22: =SUM(I17:I21) -> 0
A25: INSTITUCIÓN | B25: =Presupuesto_General!T9 -> 0
A26: Descripción | B26: Justificación | C26: Cantidad | D26: Valor unitario | E26: Valor | F26: 2026 | G26: 2027 | H26: 2028 | I26: TOTAL | J26: Observaciones
E27: =(C27*D27) -> 0 | I27: =SUM(F27:H27) -> 0
E28: =(C28*D28) -> 0 | I28: =SUM(F28:H28) -> 0
E29: =(C29*D29) -> 0 | I29: =SUM(F29:H29) -> 0
E30: =(C30*D30) -> 0 | I30: =SUM(F30:H30) -> 0
E31: =(C31*D31) -> 0 | I31: =SUM(F31:H31) -> 0
A32: VALOR POR INSTITUCIÓN | E32: =SUM(E27:E31) -> 0 | F32: =SUM(F27:F31) -> 0 | G32: =SUM(G27:G31) -> 0 | H32: =SUM(H27:H31) -> 0 | I32: =SUM(I27:I31) -> 0
A34: INSTITUCIÓN | B34: =Presupuesto_General!W9 -> 0
A35: Descripción | B35: Justificación | C35: Cantidad | D35: Valor unitario | E35: Valor total | F35: 2026 | G35: 2027 | H35: 2028 | I35: TOTAL | J35: Observaciones
E36: =(C36*D36) -> 0 | I36: =SUM(F36:H36) -> 0
E37: =(C37*D37) -> 0 | I37: =SUM(F37:H37) -> 0
E38: =(C38*D38) -> 0 | I38: =SUM(F38:H38) -> 0
E39: =(C39*D39) -> 0 | I39: =SUM(F39:H39) -> 0
E40: =(C40*D40) -> 0 | I40: =SUM(F40:H40) -> 0
A41: VALOR POR INSTITUCIÓN | E41: =SUM(E36:E40) -> 0 | F41: =SUM(F36:F40) -> 0 | G41: =SUM(G36:G40) -> 0 | H41: =SUM(H36:H40) -> 0 | I41: =SUM(I36:I40) -> 0

Sheet Servicios_Editoriales
A1: =+Presupuesto_General!A1 -> IV CONVOCATORIA INTERINSTITUCIONAL PARA FINANCIACIÓN DE PROYECTOS. RED DE UNIVERSIDADES CATÓLICAS (RUCC) 2026
A3: SERVICIOS EDITORIALES
A5: INSTITUCIÓN | B5: =Presupuesto_General!N9 -> 0
A6: Tipo de servicio editorial | B6: Justificación | C6: Cantidad | D6: Valor unitario | E6: Valor | F6: 2026 | G6: 2027 | H6: 2028 | I6: TOTAL | J6: Observaciones
E7: =+C7*D7 -> 0 | I7: =SUM(F7:H7) -> 0
E8: =+C8*D8 -> 0 | I8: =SUM(F8:H8) -> 0
E9: =+C9*D9 -> 0 | I9: =SUM(F9:H9) -> 0
E10: =+C10*D10 -> 0 | I10: =SUM(F10:H10) -> 0
E11: =+C11*D11 -> 0 | I11: =SUM(F11:H11) -> 0
A12: VALOR POR INSTITUCIÓN | E12: =SUM(E7:E11) -> 0 | F12: =SUM(F7:F11) -> 0 | G12: =SUM(G7:G11) -> 0 | H12: =SUM(H7:H11) -> 0 | I12: =SUM(I7:I11) -> 0
A15: INSTITUCIÓN | B15: =Presupuesto_General!Q9 -> 0
A16: Tipo de servicio editorial | B16: Justificación | C16: Cantidad | D16: Valor unitario | E16: Valor | F16: 2026 | G16: 2027 | H16: 2028 | I16: TOTAL | J16: Observaciones
E17: =+C17*D17 -> 0 | I17: =SUM(F17:H17) -> 0
E18: =+C18*D18 -> 0 | I18: =SUM(F18:H18) -> 0
E19: =+C19*D19 -> 0 | I19: =SUM(F19:H19) -> 0
E20: =+C20*D20 -> 0 | I20: =SUM(F20:H20) -> 0
E21: =+C21*D21 -> 0 | I21: =SUM(F21:H21) -> 0
A22: VALOR POR INSTITUCIÓN | E22: =SUM(E17:E21) -> 0 | F22: =SUM(F17:F21) -> 0 | G22: =SUM(G17:G21) -> 0 | H22: =SUM(H17:H21) -> 0 | I22: =SUM(I17:I21) -> 0
A25: INSTITUCIÓN | B25: =Presupuesto_General!T9 -> 0
A26: Tipo de servicio editorial | B26: Justificación | C26: Cantidad | D26: Valor unitario | E26: Valor | F26: 2026 | G26: 2027 | H26: 2028 | I26: TOTAL | J26: Observaciones
E27: =+C27*D27 -> 0 | I27: =SUM(F27:H27) -> 0
E28: =+C28*D28 -> 0 | I28: =SUM(F28:H28) -> 0
E29: =+C29*D29 -> 0 | I29: =SUM(F29:H29) -> 0
E30: =+C30*D30 -> 0 | I30: =SUM(F30:H30) -> 0
E31: =+C31*D31 -> 0 | I31: =SUM(F31:H31) -> 0
A32: VALOR POR INSTITUCIÓN | E32: =SUM(E27:E31) -> 0 | F32: =SUM(F27:F31) -> 0 | G32: =SUM(G27:G31) -> 0 | H32: =SUM(H27:H31) -> 0 | I32: =SUM(I27:I31) -> 0
A35: INSTITUCIÓN | B35: =Presupuesto_General!W9 -> 0
A36: Tipo de servicio editorial | B36: Justificación | C36: Cantidad | D36: Valor unitario | E36: Valor | F36: 2026 | G36: 2027 | H36: 2028 | I36: TOTAL | J36: Observaciones
E37: =+C37*D37 -> 0 | I37: =SUM(F37:H37) -> 0
E38: =+C38*D38 -> 0 | I38: =SUM(F38:H38) -> 0
E39: =+C39*D39 -> 0 | I39: =SUM(F39:H39) -> 0
E40: =+C40*D40 -> 0 | I40: =SUM(F40:H40) -> 0
E41: =+C41*D41 -> 0 | I41: =SUM(F41:H41) -> 0
A42: VALOR POR INSTITUCIÓN | E42: =SUM(E37:E41) -> 0 | F42: =SUM(F37:F41) -> 0 | G42: =SUM(G37:G41) -> 0 | H42: =SUM(H37:H41) -> 0 | I42: =SUM(I37:I41) -> 0

Sheet Servicios_Técnicos
A1: =+Presupuesto_General!A1 -> IV CONVOCATORIA INTERINSTITUCIONAL PARA FINANCIACIÓN DE PROYECTOS. RED DE UNIVERSIDADES CATÓLICAS (RUCC) 2026
A3: SERVICIOS TÉCNICOS
A5: INSTITUCIÓN | B5: =Presupuesto_General!N9 -> 0
A6: Tipo de servicio técnico | B6: Justificación | C6: Cantidad | D6: Valor unitario | E6: Valor | F6: 2026 | G6: 2027 | H6: 2028 | I6: TOTAL | J6: Observaciones
E7: =+C7*D7 -> 0 | I7: =SUM(F7:H7) -> 0
E8: =+C8*D8 -> 0 | I8: =SUM(F8:H8) -> 0
E9: =+C9*D9 -> 0 | I9: =SUM(F9:H9) -> 0
E10: =+C10*D10 -> 0 | I10: =SUM(F10:H10) -> 0
E11: =+C11*D11 -> 0 | I11: =SUM(F11:H11) -> 0
A12: VALOR POR INSTITUCIÓN | E12: =SUM(E7:E11) -> 0 | F12: =SUM(F7:F11) -> 0 | G12: =SUM(G7:G11) -> 0 | H12: =SUM(H7:H11) -> 0 | I12: =SUM(I7:I11) -> 0
A15: INSTITUCIÓN | B15: =Presupuesto_General!Q9 -> 0
A16: Descripción | B16: Justificación | C16: Cantidad | D16: Valor unitario | E16: Valor | F16: 2026 | G16: 2027 | H16: 2028 | I16: TOTAL | J16: Observaciones
E17: =+C17*D17 -> 0 | I17: =SUM(F17:H17) -> 0
E18: =+C18*D18 -> 0 | I18: =SUM(F18:H18) -> 0
E19: =+C19*D19 -> 0 | I19: =SUM(F19:H19) -> 0
E20: =+C20*D20 -> 0 | I20: =SUM(F20:H20) -> 0
E21: =+C21*D21 -> 0 | I21: =SUM(F21:H21) -> 0
A22: VALOR POR INSTITUCIÓN | E22: =SUM(E17:E21) -> 0 | F22: =SUM(F17:F21) -> 0 | G22: =SUM(G17:G21) -> 0 | H22: =SUM(H17:H21) -> 0 | I22: =SUM(I17:I21) -> 0
A25: INSTITUCIÓN | B25: =Presupuesto_General!T9 -> 0
A26: Descripción | B26: Justificación | C26: Cantidad | D26: Valor unitario | E26: Valor | F26: 2026 | G26: 2027 | H26: 2028 | I26: TOTAL | J26: Observaciones
E27: =+C27*D27 -> 0 | I27: =SUM(F27:H27) -> 0
E28: =+C28*D28 -> 0 | I28: =SUM(F28:H28) -> 0
E29: =+C29*D29 -> 0 | I29: =SUM(F29:H29) -> 0
E30: =+C30*D30 -> 0 | I30: =SUM(F30:H30) -> 0
E31: =+C31*D31 -> 0 | I31: =SUM(F31:H31) -> 0
A32: VALOR POR INSTITUCIÓN | E32: =SUM(E27:E31) -> 0 | F32: =SUM(F27:F31) -> 0 | G32: =SUM(G27:G31) -> 0 | H32: =SUM(H27:H31) -> 0 | I32: =SUM(I27:I31) -> 0
A35: INSTITUCIÓN | B35: =Presupuesto_General!W9 -> 0
A36: Descripción | B36: Justificación | C36: Cantidad | D36: Valor unitario | E36: Valor | F36: 2026 | G36: 2027 | H36: 2028 | I36: TOTAL | J36: Observaciones
E37: =+C37*D37 -> 0 | I37: =SUM(F37:H37) -> 0
E38: =+C38*D38 -> 0 | I38: =SUM(F38:H38) -> 0
E39: =+C39*D39 -> 0 | I39: =SUM(F39:H39) -> 0
E40: =+C40*D40 -> 0 | I40: =SUM(F40:H40) -> 0
E41: =+C41*D41 -> 0 | I41: =SUM(F41:H41) -> 0
A42: VALOR POR INSTITUCIÓN | E42: =SUM(E37:E41) -> 0 | F42: =SUM(F37:F41) -> 0 | G42: =SUM(G37:G41) -> 0 | H42: =SUM(H37:H41) -> 0 | I42: =SUM(I37:I41) -> 0

Sheet Difusión_o_Divulgación
A1: =+Presupuesto_General!A1 -> IV CONVOCATORIA INTERINSTITUCIONAL PARA FINANCIACIÓN DE PROYECTOS. RED DE UNIVERSIDADES CATÓLICAS (RUCC) 2026
A3: DIFUSIÓN O DIVULGACIÓN DE RES. INV.
A5: INSTITUCIÓN | B5: =Presupuesto_General!N9 -> 0
A6: Descripción | B6: Justificación | C6: Cantidad | D6: Valor unitario | E6: Valor | F6: 2026 | G6: 2027 | H6: 2028 | I6: TOTAL | J6: Observaciones
E7: =+C7*D7 -> 0 | I7: =SUM(F7:H7) -> 0
E8: =+C8*D8 -> 0 | I8: =SUM(F8:H8) -> 0
E9: =+C9*D9 -> 0 | I9: =SUM(F9:H9) -> 0
E10: =+C10*D10 -> 0 | I10: =SUM(F10:H10) -> 0
E11: =+C11*D11 -> 0 | I11: =SUM(F11:H11) -> 0
A12: VALOR POR INSTITUCIÓN | E12: =SUM(E7:E11) -> 0 | F12: =SUM(F7:F11) -> 0 | G12: =SUM(G7:G11) -> 0 | H12: =SUM(H7:H11) -> 0 | I12: =SUM(I7:I11) -> 0
A15: INSTITUCIÓN | B15: =Presupuesto_General!Q9 -> 0
A16: Descripción | B16: Justificación | C16: Cantidad | D16: Valor unitario | E16: Valor | F16: 2026 | G16: 2027 | H16: 2028 | I16: TOTAL | J16: Observaciones
E17: =+C17*D17 -> 0 | I17: =SUM(F17:H17) -> 0
E18: =+C18*D18 -> 0 | I18: =SUM(F18:H18) -> 0
E19: =+C19*D19 -> 0 | I19: =SUM(F19:H19) -> 0
E20: =+C20*D20 -> 0 | I20: =SUM(F20:H20) -> 0
E21: =+C21*D21 -> 0 | I21: =SUM(F21:H21) -> 0
A22: VALOR POR INSTITUCIÓN | E22: =SUM(E17:E21) -> 0 | F22: =SUM(F17:F21) -> 0 | G22: =SUM(G17:G21) -> 0 | H22: =SUM(H17:H21) -> 0 | I22: =SUM(I17:I21) -> 0
A25: INSTITUCIÓN | B25: =Presupuesto_General!T9 -> 0
A26: Descripción | B26: Justificación | C26: Cantidad | D26: Valor unitario | E26: Valor | F26: 2026 | G26: 2027 | H26: 2028 | I26: TOTAL | J26: Observaciones
E27: =+C27*D27 -> 0 | I27: =SUM(F27:H27) -> 0
E28: =+C28*D28 -> 0 | I28: =SUM(F28:H28) -> 0
E29: =+C29*D29 -> 0 | I29: =SUM(F29:H29) -> 0
E30: =+C30*D30 -> 0 | I30: =SUM(F30:H30) -> 0
E31: =+C31*D31 -> 0 | I31: =SUM(F31:H31) -> 0
A32: VALOR POR INSTITUCIÓN | E32: =SUM(E27:E31) -> 0 | F32: =SUM(F27:F31) -> 0 | G32: =SUM(G27:G31) -> 0 | H32: =SUM(H27:H31) -> 0 | I32: =SUM(I27:I31) -> 0
A34: INSTITUCIÓN | B34: =Presupuesto_General!W9 -> 0
A35: Descripción | B35: Justificación | C35: Cantidad | D35: Valor unitario | E35: Valor | F35: 2026 | G35: 2027 | H35: 2028 | I35: TOTAL | J35: Observaciones
E36: =+C36*D36 -> 0 | I36: =SUM(F36:H36) -> 0
E37: =+C37*D37 -> 0 | I37: =SUM(F37:H37) -> 0
E38: =+C38*D38 -> 0 | I38: =SUM(F38:H38) -> 0
E39: =+C39*D39 -> 0 | I39: =SUM(F39:H39) -> 0
E40: =+C40*D40 -> 0 | I40: =SUM(F40:H40) -> 0
A41: VALOR POR INSTITUCIÓN | E41: =SUM(E36:E40) -> 0 | F41: =SUM(F36:F40) -> 0 | G41: =SUM(G36:G40) -> 0 | H41: =SUM(H36:H40) -> 0 | I41: =SUM(I36:I40) -> 0

Sheet Auxilio_Sostenimiento
A1: =+Presupuesto_General!A1 -> IV CONVOCATORIA INTERINSTITUCIONAL PARA FINANCIACIÓN DE PROYECTOS. RED DE UNIVERSIDADES CATÓLICAS (RUCC) 2026
A3: AUXILIO DE SOSTENIMIENTO
A5: INSTITUCIÓN | B5: =Presupuesto_General!N9 -> 0
A6: Descripción | B6: Justificación | C6: Cantidad | D6: Valor unitario | E6: Valor | F6: 2026 | G6: 2027 | H6: 2028 | I6: TOTAL | J6: Observaciones
E7: =+C7*D7 -> 0 | I7: =SUM(F7:H7) -> 0
E8: =+C8*D8 -> 0 | I8: =SUM(F8:H8) -> 0
E9: =+C9*D9 -> 0 | I9: =SUM(F9:H9) -> 0
E10: =+C10*D10 -> 0 | I10: =SUM(F10:H10) -> 0
E11: =+C11*D11 -> 0 | I11: =SUM(F11:H11) -> 0
A12: VALOR POR INSTITUCIÓN | E12: =SUM(E7:E11) -> 0 | F12: =SUM(F7:F11) -> 0 | G12: =SUM(G7:G11) -> 0 | H12: =SUM(H7:H11) -> 0 | I12: =SUM(I7:I11) -> 0
A15: INSTITUCIÓN | B15: =Presupuesto_General!Q9 -> 0
A16: Descripción | B16: Justificación | C16: Cantidad | D16: Valor unitario | E16: Valor | F16: 2026 | G16: 2027 | H16: 2028 | I16: TOTAL | J16: Observaciones
E17: =+C17*D17 -> 0 | I17: =SUM(F17:H17) -> 0
E18: =+C18*D18 -> 0 | I18: =SUM(F18:H18) -> 0
E19: =+C19*D19 -> 0 | I19: =SUM(F19:H19) -> 0
E20: =+C20*D20 -> 0 | I20: =SUM(F20:H20) -> 0
E21: =+C21*D21 -> 0 | I21: =SUM(F21:H21) -> 0
A22: VALOR POR INSTITUCIÓN | E22: =SUM(E17:E21) -> 0 | F22: =SUM(F17:F21) -> 0 | G22: =SUM(G17:G21) -> 0 | H22: =SUM(H17:H21) -> 0 | I22: =SUM(I17:I21) -> 0
A25: INSTITUCIÓN | B25: =Presupuesto_General!T9 -> 0
A26: Descripción | B26: Justificación | C26: Cantidad | D26: Valor unitario | E26: Valor | F26: 2026 | G26: 2027 | H26: 2028 | I26: TOTAL | J26: Observaciones
E27: =+C27*D27 -> 0 | I27: =SUM(F27:H27) -> 0
E28: =+C28*D28 -> 0 | I28: =SUM(F28:H28) -> 0
E29: =+C29*D29 -> 0 | I29: =SUM(F29:H29) -> 0
E30: =+C30*D30 -> 0 | I30: =SUM(F30:H30) -> 0
E31: =+C31*D31 -> 0 | I31: =SUM(F31:H31) -> 0
A32: VALOR POR INSTITUCIÓN | E32: =SUM(E27:E31) -> 0 | F32: =SUM(F27:F31) -> 0 | G32: =SUM(G27:G31) -> 0 | H32: =SUM(H27:H31) -> 0 | I32: =SUM(I27:I31) -> 0
A34: INSTITUCIÓN | B34: =Presupuesto_General!W9 -> 0
A35: Descripción | B35: Justificación | C35: Cantidad | D35: Valor unitario | E35: Valor | F35: 2026 | G35: 2027 | H35: 2028 | I35: TOTAL | J35: Observaciones
E36: =+C36*D36 -> 0 | I36: =SUM(F36:H36) -> 0
E37: =+C37*D37 -> 0 | I37: =SUM(F37:H37) -> 0
E38: =+C38*D38 -> 0 | I38: =SUM(F38:H38) -> 0
E39: =+C39*D39 -> 0 | I39: =SUM(F39:H39) -> 0
E40: =+C40*D40 -> 0 | I40: =SUM(F40:H40) -> 0
A41: VALOR POR INSTITUCIÓN | E41: =SUM(E36:E40) -> 0 | F41: =SUM(F36:F40) -> 0 | G41: =SUM(G36:G40) -> 0 | H41: =SUM(H36:H40) -> 0 | I41: =SUM(I36:I40) -> 0

Sheet Personal_Cientifico
A1: =+Presupuesto_General!A1 -> IV CONVOCATORIA INTERINSTITUCIONAL PARA FINANCIACIÓN DE PROYECTOS. RED DE UNIVERSIDADES CATÓLICAS (RUCC) 2026
A3: PERSONAL CIENTIFICO
A5: INSTITUCIÓN | B5: =Presupuesto_General!N9 -> 0
A6: Investigador | B6: Institución | C6: Rol en el proyecto | D6: Formación | E6: Dedicación (horas/semana) | F6: Semanas/mes | G6: Valor Hora | H6: Meses | I6: Valor contrapartida | J6: 2026 | K6: 2027 | L6: 2028 | M6: TOTAL | N6: Responsabilidad
F7: 4.333333 | I7: =(E7*F7*G7*H7) -> 0 | M7: =SUM(J7:L7) -> 0
F8: 4.333333 | I8: =(E8*F8*G8*H8) -> 0 | M8: =SUM(J8:L8) -> 0
F9: 4.333333 | I9: =(E9*F9*G9*H9) -> 0 | M9: =SUM(J9:L9) -> 0
F10: 4.333333 | I10: =(E10*F10*G10*H10) -> 0 | M10: =SUM(J10:L10) -> 0
F11: 4.333333 | I11: =(E11*F11*G11*H11) -> 0 | M11: =SUM(J11:L11) -> 0
A12: VALOR POR INSTITUCIÓN | I12: =SUM(I7:I11) -> 0 | J12: =SUM(J7:J11) -> 0 | K12: =SUM(K7:K11) -> 0 | L12: =SUM(L7:L11) -> 0 | M12: =SUM(M7:M11) -> 0
A15: INSTITUCIÓN | B15: =Presupuesto_General!Q9 -> 0
A16: Investigador | B16: Institución | C16: Rol en el proyecto | D16: Formación | E16: Dedicación (horas/semana) | F16: Semanas/mes | G16: Valor Hora | H16: Meses | I16: Valor contrapartida | J16: 2026 | K16: 2027 | L16: 2028 | M16: TOTAL | N16: Responsabilidad
F17: 4.333333 | I17: =(E17*F17*G17*H17) -> 0 | M17: =SUM(J17:L17) -> 0
F18: 4.333333 | I18: =(E18*F18*G18*H18) -> 0 | M18: =SUM(J18:L18) -> 0
F19: 4.333333 | I19: =(E19*F19*G19*H19) -> 0 | M19: =SUM(J19:L19) -> 0
F20: 4.333333 | I20: =(E20*F20*G20*H20) -> 0 | M20: =SUM(J20:L20) -> 0
F21: 4.333333 | I21: =(E21*F21*G21*H21) -> 0 | M21: =SUM(J21:L21) -> 0
A22: VALOR POR INSTITUCIÓN | I22: =SUM(I17:I21) -> 0 | J22: =SUM(J17:J21) -> 0 | K22: =SUM(K17:K21) -> 0 | L22: =SUM(L17:L21) -> 0 | M22: =SUM(M17:M21) -> 0
A25: INSTITUCIÓN | B25: =Presupuesto_General!T9 -> 0
A26: Investigador | B26: Institución | C26: Rol en el proyecto | D26: Formación | E26: Dedicación (horas/semana) | F26: Semanas/mes | G26: Valor Hora | H26: Meses | I26: Valor contrapartida | J26: 2026 | K26: 2027 | L26: 2028 | M26: TOTAL | N26: Responsabilidad
F27: 4.333333 | I27: =(E27*F27*G27*H27) -> 0 | M27: =SUM(J27:L27) -> 0
F28: 4.333333 | I28: =(E28*F28*G28*H28) -> 0 | M28: =SUM(J28:L28) -> 0
F29: 4.333333 | I29: =(E29*F29*G29*H29) -> 0 | M29: =SUM(J29:L29) -> 0
F30: 4.333333 | I30: =(E30*F30*G30*H30) -> 0 | M30: =SUM(J30:L30) -> 0
F31: 4.333333 | I31: =(E31*F31*G31*H31) -> 0 | M31: =SUM(J31:L31) -> 0
A32: VALOR POR INSTITUCIÓN | I32: =SUM(I27:I31) -> 0 | J32: =SUM(J27:J31) -> 0 | K32: =SUM(K27:K31) -> 0 | L32: =SUM(L27:L31) -> 0 | M32: =SUM(M27:M31) -> 0
A35: INSTITUCIÓN | B35: =Presupuesto_General!W9 -> 0
A36: Investigador | B36: Institución | C36: Rol en el proyecto | D36: Formación | E36: Dedicación (horas/semana) | F36: Semanas/mes | G36: Valor Hora | H36: Meses | I36: Valor contrapartida | J36: 2026 | K36: 2027 | L36: 2028 | M36: TOTAL | N36: Responsabilidad
F37: 4.333333 | I37: =(E37*F37*G37*H37) -> 0 | M37: =SUM(J37:L37) -> 0
F38: 4.333333 | I38: =(E38*F38*G38*H38) -> 0 | M38: =SUM(J38:L38) -> 0
F39: 4.333333 | I39: =(E39*F39*G39*H39) -> 0 | M39: =SUM(J39:L39) -> 0
F40: 4.333333 | I40: =(E40*F40*G40*H40) -> 0 | M40: =SUM(J40:L40) -> 0
F41: 4.333333 | I41: =(E41*F41*G41*H41) -> 0 | M41: =SUM(J41:L41) -> 0
A42: VALOR POR INSTITUCIÓN | I42: =SUM(I37:I41) -> 0 | J42: =SUM(J37:J41) -> 0 | K42: =SUM(K37:K41) -> 0 | L42: =SUM(L37:L41) -> 0 | M42: =SUM(M37:M41) -> 0

Sheet Contrapartidas
A1: =+Presupuesto_General!A1 -> IV CONVOCATORIA INTERINSTITUCIONAL PARA FINANCIACIÓN DE PROYECTOS. RED DE UNIVERSIDADES CATÓLICAS (RUCC) 2026
A3: CONTRAPARTIDAS
A5: INSTITUCIÓN | B5: =Presupuesto_General!N9 -> 0
A6: Rubro | B6: Justificación | C6: Cantidad | D6: Valor unitario | E6: Valor total | F6: 2026 | G6: 2027 | H6: 2028 | I6: TOTAL | J6: Observaciones
A7: Licencias de software especializado | E7: =+C7*D7 -> 0 | I7: =SUM(F7:H7) -> 0
A8: Acceso a bibliografía especializada | E8: =+C8*D8 -> 0 | I8: =SUM(F8:H8) -> 0
A9: Capacitaciones para el funcionamiento de laboratorios o formación académica de los participantes del proyecto | E9: =+C9*D9 -> 0 | I9: =SUM(F9:H9) -> 0
A10: Equipos de cómputo o laboratorio | E10: =+C10*D10 -> 0 | I10: =SUM(F10:H10) -> 0
A11: Alquiler de equipos requeridos | E11: =+C11*D11 -> 0 | I11: =SUM(F11:H11) -> 0
A12: Participación en eventos | E12: =+C12*D12 -> 0 | I12: =SUM(F12:H12) -> 0
A13: Otros | E13: =+C13*D13 -> 0 | I13: =SUM(F13:H13) -> 0
A14: VALOR POR INSTITUCIÓN | E14: =SUM(E7:E11) -> 0 | F14: =SUM(F7:F11) -> 0 | G14: =SUM(G7:G11) -> 0 | H14: =SUM(H7:H11) -> 0 | I14: =SUM(I7:I11) -> 0
A17: INSTITUCIÓN | B17: =Presupuesto_General!Q9 -> 0
A18: Descripción | B18: Justificación | C18: Cantidad | D18: Valor unitario | E18: Valor total | F18: 2026 | G18: 2027 | H18: 2028 | I18: TOTAL | J18: Observaciones
A19: Licencias de software especializado | E19: =+C19*D19 -> 0 | I19: =SUM(F19:H19) -> 0
A20: Acceso a bibliografía especializada | E20: =+C20*D20 -> 0 | I20: =SUM(F20:H20) -> 0
A21: Capacitaciones para el funcionamiento de laboratorios o formación académica de los participantes del proyecto | E21: =+C21*D21 -> 0 | I21: =SUM(F21:H21) -> 0
A22: Equipos de cómputo o laboratorio | E22: =+C22*D22 -> 0 | I22: =SUM(F22:H22) -> 0
A23: Alquiler de equipos requeridos | E23: =+C23*D23 -> 0 | I23: =SUM(F23:H23) -> 0
A24: Participación en eventos | E24: =+C24*D24 -> 0 | I24: =SUM(F24:H24) -> 0
A25: Otros | E25: =+C25*D25 -> 0 | I25: =SUM(F25:H25) -> 0
A26: VALOR POR INSTITUCIÓN | E26: =SUM(E19:E25) -> 0 | F26: =SUM(F19:F25) -> 0 | G26: =SUM(G19:G25) -> 0 | H26: =SUM(H19:H25) -> 0 | I26: =SUM(I19:I25) -> 0
A29: INSTITUCIÓN | B29: =Presupuesto_General!T9 -> 0
A30: Descripción | B30: Justificación | C30: Cantidad | D30: Valor unitario | E30: Valor total | F30: 2026 | G30: 2027 | H30: 2028 | I30: TOTAL | J30: Observaciones
A31: Licencias de software especializado | E31: =+C31*D31 -> 0 | I31: =SUM(F31:H31) -> 0
A32: Acceso a bibliografía especializada | E32: =+C32*D32 -> 0 | I32: =SUM(F32:H32) -> 0
A33: Capacitaciones para el funcionamiento de laboratorios o formación académica de los participantes del proyecto | E33: =+C33*D33 -> 0 | I33: =SUM(F33:H33) -> 0
A34: Equipos de cómputo o laboratorio | E34: =+C34*D34 -> 0 | I34: =SUM(F34:H34) -> 0
A35: Alquiler de equipos requeridos | E35: =+C35*D35 -> 0 | I35: =SUM(F35:H35) -> 0
A36: Participación en eventos | E36: =+C36*D36 -> 0 | I36: =SUM(F36:H36) -> 0
A37: Otros | E37: =+C37*D37 -> 0 | I37: =SUM(F37:H37) -> 0
A38: VALOR POR INSTITUCIÓN | E38: =SUM(E31:E37) -> 0 | F38: =SUM(F31:F37) -> 0 | G38: =SUM(G31:G37) -> 0 | H38: =SUM(H31:H37) -> 0 | I38: =SUM(I31:I37) -> 0
A40: INSTITUCIÓN | B40: =Presupuesto_General!W9 -> 0
A41: Descripción | B41: Justificación | C41: Cantidad | D41: Valor unitario | E41: Valor total | F41: 2026 | G41: 2027 | H41: 2028 | I41: TOTAL | J41: Observaciones
A42: Licencias de software especializado | E42: =+C42*D42 -> 0 | I42: =SUM(F42:H42) -> 0
A43: Acceso a bibliografía especializada | E43: =+C43*D43 -> 0 | I43: =SUM(F43:H43) -> 0
A44: Capacitaciones para el funcionamiento de laboratorios o formación académica de los participantes del proyecto | E44: =+C44*D44 -> 0 | I44: =SUM(F44:H44) -> 0
A45: Equipos de cómputo o laboratorio | E45: =+C45*D45 -> 0 | I45: =SUM(F45:H45) -> 0
A46: Alquiler de equipos requeridos | E46: =+C46*D46 -> 0 | I46: =SUM(F46:H46) -> 0
A47: Participación en eventos | E47: =+C47*D47 -> 0 | I47: =SUM(F47:H47) -> 0
...

Sheet SEGUIMIENTO Y EVALUACION
A1: CONCEPTO | B1: JUSTIFICACIÓN
A2: SEGUIMIENTO Y EVALUACION | B2: Seguimiento proyecto
A6: * NOTA: Esta hoja solo se deja como soporte de la justificación presentada a Colciencias, y el calculo se hace automáticamente en la hoja resumen llamada "PRESUPUESTO-APROB-COLC"

Sheet COSTOS OPERATIVOS
A1: CONCEPTO | B1: JUSTIFICACIÓN
A6: * NOTA: Esta hoja solo se deja como soporte de la justificación presentada a Colciencias, y el calculo se hace automáticamente en la hoja resumen llamada "PRESUPUESTO-APROB-COLC"
